BEGIN:VCALENDAR
PRODID:-//AT Content Types//AT Event//EN
VERSION:2.0
METHOD:PUBLISH
BEGIN:VEVENT
DTSTAMP:20260423T190804Z
CREATED:20250619T153927Z
UID:ATEvent-826e5f5f971849de9204c52901499a8c
LAST-MODIFIED:20250802T011517Z
SUMMARY:Postponed-Papermaking Class
DTSTART:20250802T130000Z
DTEND:20250802T160000Z
DESCRIPTION:Check back for a new date in September! Join Nancy Basket\
 , at FENCE on Saturday\, August 2nd from 9am-12pm for a Paper Making w
 orkshop. No experience necessary to attend.
LOCATION:FENCE Center
CATEGORIES:Nature Program
CONTACT:828-859-9021\, info@fence.org
CLASS:PUBLIC
END:VEVENT
END:VCALENDAR
