BEGIN:VCALENDAR
PRODID:-//AT Content Types//AT Event//EN
VERSION:1.0
BEGIN:VEVENT
DTSTART:20191025T223000Z
DTEND:20191026T003000Z
DCREATED:20190122T213025Z
UID:ATEvent-3dc5f0fae33946bea07ae8ac8f340a1d
SEQUENCE:0
LAST-MODIFIED:20190122T213025Z
SUMMARY:Owl Prowl
LOCATION:FENCE Center
PRIORITY:3
TRANSP:0
END:VEVENT
END:VCALENDAR
