BEGIN:VCALENDAR
PRODID:-//AT Content Types//AT Event//EN
VERSION:2.0
METHOD:PUBLISH
BEGIN:VEVENT
DTSTAMP:20260423T154521Z
CREATED:20230204T150259Z
UID:ATEvent-5ca71a52f68f4bd6b9d6ac7f2dd77729
LAST-MODIFIED:20230204T150300Z
SUMMARY:Owl Prowl-registration required
DTSTART:20231020T223000Z
DTEND:20231021T003000Z
DESCRIPTION:Join Clifton Avery\, Ventures Birding Guide\, for an eveni
 ng walk around the FENCE property in search of resident owls. This eve
 nt is popular and requires advanced registration. Please contact FENCE
  at 828-859-9021 or info@fence.org to register.
LOCATION:FENCE Center
CATEGORIES:Nature Program
CONTACT:828-859-9021\, info@fence.org
CLASS:PUBLIC
END:VEVENT
END:VCALENDAR
