BEGIN:VCALENDAR
PRODID:-//AT Content Types//AT Event//EN
VERSION:2.0
METHOD:PUBLISH
BEGIN:VEVENT
DTSTAMP:20260423T170704Z
CREATED:20250820T144804Z
UID:ATEvent-31eb1332b6a0462e9a90235c6ccebdef
LAST-MODIFIED:20251021T134550Z
SUMMARY:Owl Prowl
DTSTART:20251101T223000Z
DTEND:20251102T000000Z
CATEGORIES:Nature Program
CONTACT:828-859-9021\, info@fence.org
CLASS:PUBLIC
END:VEVENT
END:VCALENDAR
