BEGIN:VCALENDAR
PRODID:-//AT Content Types//AT Event//EN
VERSION:2.0
METHOD:PUBLISH
BEGIN:VEVENT
DTSTAMP:20260423T130920Z
CREATED:20221010T103033Z
UID:ATEvent-dba70f59c5c24726929f664ac77379ee
LAST-MODIFIED:20221010T103034Z
SUMMARY:Owl Prowl
DTSTART:20221014T223000Z
DTEND:20221015T003000Z
DESCRIPTION:Join us for a nighttime walk around the FENCE property in 
 search of some of our local owl species. This event is free and open t
 o the public. Please call 828-859-9021 or email info@fence.org to regi
 ster for this event.
LOCATION:FENCE Center
CATEGORIES:Nature Program
CONTACT:828-859-9021\, info@fence.org
CLASS:PUBLIC
END:VEVENT
END:VCALENDAR
