BEGIN:VCALENDAR
PRODID:-//AT Content Types//AT Event//EN
VERSION:2.0
METHOD:PUBLISH
BEGIN:VEVENT
DTSTAMP:20260423T062740Z
CREATED:20210817T175214Z
UID:ATEvent-07ef2b2bb24f4af7b75f4e0ff2bf06cf
LAST-MODIFIED:20211012T125107Z
SUMMARY:FULL-Owl Prowl
DTSTART:20211022T223000Z
DTEND:20211023T003000Z
DESCRIPTION:Registration for this event is at capacity and has closed.
  Join us for a nighttime walk around the FENCE property in search of s
 ome of our local owl species. This event is free and open to the publi
 c. Please call 828-859-9021 or email info@fence.org to register for th
 is event.
LOCATION:FENCE Center
CATEGORIES:Nature Program
CONTACT:8288599021\, info@fence.org
CLASS:PUBLIC
END:VEVENT
END:VCALENDAR
