BEGIN:VCALENDAR
PRODID:-//AT Content Types//AT Event//EN
VERSION:2.0
METHOD:PUBLISH
BEGIN:VEVENT
DTSTAMP:20260423T140243Z
CREATED:20200904T184909Z
UID:ATEvent-82e8dd3660a9479ca0216c9dcf20efca
LAST-MODIFIED:20201015T125610Z
SUMMARY:Owl Prowl - FULL
DTSTART:20201016T224500Z
DTEND:20201017T003000Z
DESCRIPTION:Registration required. More details coming soon!
LOCATION:FENCE Center
CATEGORIES:Nature Program
CONTACT:828-859-9021\, info@fence.org
CLASS:PUBLIC
END:VEVENT
END:VCALENDAR
