BEGIN:VCALENDAR
PRODID:-//AT Content Types//AT Event//EN
VERSION:1.0
BEGIN:VEVENT
DTSTART:20190302T160000Z
DTEND:20190302T170000Z
DCREATED:20190221T224807Z
UID:ATEvent-0125ad327810446bb5b26244f15ee4ee
SEQUENCE:0
LAST-MODIFIED:20190221T224808Z
SUMMARY:Outdoor Hazards from the Animal World
DESCRIPTION:Carlton Burke will be giving an educational presentation o
 n the animal hazard you may encounter when enjoying the outdoors.
LOCATION:FENCE Center
PRIORITY:3
TRANSP:0
END:VEVENT
END:VCALENDAR
