BEGIN:VCALENDAR
PRODID:-//AT Content Types//AT Event//EN
VERSION:2.0
METHOD:PUBLISH
BEGIN:VEVENT
DTSTAMP:20260423T170940Z
CREATED:20241030T193521Z
UID:ATEvent-43edfe4e766c4bc79a502d250884e39d
LAST-MODIFIED:20241030T193521Z
SUMMARY:Open Horse Show
DTSTART:20241214T130000Z
DTEND:20241214T210000Z
LOCATION:FENCE Equestrian Side
CATEGORIES:Horse Show
CONTACT:8288599021
CLASS:PUBLIC
END:VEVENT
END:VCALENDAR
