BEGIN:VCALENDAR
PRODID:-//AT Content Types//AT Event//EN
VERSION:2.0
METHOD:PUBLISH
BEGIN:VEVENT
DTSTAMP:20260423T191237Z
CREATED:20211213T172930Z
UID:ATEvent-53ad04781e2e473a8a7c577a68d77b3e
LAST-MODIFIED:20220128T183254Z
SUMMARY:Open Horse Show
DTSTART:20220924T130000Z
DTEND:20220924T210000Z
LOCATION:Equestrian side
CATEGORIES:Horse Show
CONTACT:Tracie Hanson\, 828-859-9021\, info@fence.org
CLASS:PUBLIC
END:VEVENT
END:VCALENDAR
