BEGIN:VCALENDAR
PRODID:-//AT Content Types//AT Event//EN
VERSION:2.0
METHOD:PUBLISH
BEGIN:VEVENT
DTSTAMP:20260423T142144Z
CREATED:20211213T165536Z
UID:ATEvent-5fbfbbdc77564c38919608bfd499b457
LAST-MODIFIED:20220511T151930Z
SUMMARY:Open Horse Show
DTSTART:20220514T130000Z
DTEND:20220514T210000Z
LOCATION:FENCE Center
CATEGORIES:Horse Show
CONTACT:Tracie Hanson\, 828-859-9021\, info@fence.org
CLASS:PUBLIC
END:VEVENT
END:VCALENDAR
