BEGIN:VCALENDAR
PRODID:-//AT Content Types//AT Event//EN
VERSION:1.0
BEGIN:VEVENT
DTSTART:20190928T130000Z
DTEND:20190928T210000Z
DCREATED:20190123T143321Z
UID:ATEvent-e168d565f4a14b0da52d40f37d0cee5d
SEQUENCE:0
LAST-MODIFIED:20190221T153730Z
SUMMARY:FENCE Open Horse Show
LOCATION:FENCE Equestrian Side
PRIORITY:3
TRANSP:0
END:VEVENT
END:VCALENDAR
