BEGIN:VCALENDAR
PRODID:-//AT Content Types//AT Event//EN
VERSION:2.0
METHOD:PUBLISH
BEGIN:VEVENT
DTSTAMP:20260423T142134Z
CREATED:20140207T141534Z
UID:ATEvent-200de580-9cf5-482d-a27f-a1c7e9463ac4
LAST-MODIFIED:20140815T142453Z
SUMMARY:Open Horse Show
DTSTART:20140927T130000Z
DTEND:20140927T210000Z
CATEGORIES:Horse Show
CONTACT:Sue Truitt\, 864-457-2718\, suetruit@manegate.net
CLASS:PUBLIC
END:VEVENT
END:VCALENDAR
