BEGIN:VCALENDAR
PRODID:-//AT Content Types//AT Event//EN
VERSION:2.0
METHOD:PUBLISH
BEGIN:VEVENT
DTSTAMP:20260423T141935Z
CREATED:20230117T202938Z
UID:ATEvent-437043da50f54960abddb7c0bd9b579d
LAST-MODIFIED:20231211T201416Z
SUMMARY:Offices Closed for Holidays
DTSTART:20231219T050000Z
DTEND:20240102T045500Z
DESCRIPTION:Hiking trails will remain open!
LOCATION:FENCE Center
CATEGORIES:Family
CONTACT:Tracie Hanson\, 8288599021\, info@fence.org
CLASS:PUBLIC
END:VEVENT
END:VCALENDAR
