BEGIN:VCALENDAR
PRODID:-//AT Content Types//AT Event//EN
VERSION:1.0
BEGIN:VEVENT
DTSTART:20230529T040000Z
DTEND:20230530T035500Z
DCREATED:20230117T200527Z
UID:ATEvent-2d01f640b31f4335ae3975776cdd6656
SEQUENCE:0
LAST-MODIFIED:20230117T200527Z
SUMMARY:Office Closed for Holiday
DESCRIPTION:Trails will remain open!
LOCATION:FENCE Center
PRIORITY:3
TRANSP:0
END:VEVENT
END:VCALENDAR
