BEGIN:VCALENDAR
PRODID:-//AT Content Types//AT Event//EN
VERSION:2.0
METHOD:PUBLISH
BEGIN:VEVENT
DTSTAMP:20260423T142222Z
CREATED:20230117T203133Z
UID:ATEvent-68d6d6a17a0a4fb6a18567092e829492
LAST-MODIFIED:20230117T203133Z
SUMMARY:Office Closed for Holiday
DTSTART:20230904T040000Z
DTEND:20230905T035500Z
LOCATION:FENCE Center
CATEGORIES:Family
CONTACT:Tracie Hanson\, 8288599021\, info@fence.org
CLASS:PUBLIC
END:VEVENT
END:VCALENDAR
