BEGIN:VCALENDAR
PRODID:-//AT Content Types//AT Event//EN
VERSION:2.0
METHOD:PUBLISH
BEGIN:VEVENT
DTSTAMP:20260423T223955Z
CREATED:20230117T202327Z
UID:ATEvent-b43e2e8fb2fe4aa59c48f8d960328b7c
LAST-MODIFIED:20230117T202327Z
SUMMARY:Office Closed for Holiday
DTSTART:20231123T050000Z
DTEND:20231124T235500Z
DESCRIPTION:Hiking Trials will remain open!
LOCATION:FENCE Center
CATEGORIES:Family
CONTACT:Tracie Hanson\, 8288599021\, info@fence.org
CLASS:PUBLIC
END:VEVENT
END:VCALENDAR
