BEGIN:VCALENDAR
PRODID:-//AT Content Types//AT Event//EN
VERSION:2.0
METHOD:PUBLISH
BEGIN:VEVENT
DTSTAMP:20260423T120550Z
CREATED:20080623T180534Z
UID:ATEvent-7386a2eb-a318-449c-b685-e1cfce8b7cbd
LAST-MODIFIED:20080623T180534Z
SUMMARY:Oct. 9 - 12: Buck Brannaman Clinic
DTSTART:20081009T130000Z
DTEND:20081012T210000Z
DESCRIPTION:A horsemanship and colt starting clinic.
LOCATION:Equestrian Center
CATEGORIES:Clinic
CONTACT:FENCE\, 828-859-9021\, info@fence.org
CLASS:PUBLIC
END:VEVENT
END:VCALENDAR
