BEGIN:VCALENDAR
PRODID:-//AT Content Types//AT Event//EN
VERSION:1.0
BEGIN:VEVENT
DTSTART:20101028T120000Z
DTEND:20101031T210000Z
DCREATED:20101025T203105Z
UID:ATEvent-2aafec6d-d608-4a55-8522-4c9ec9e94e75
SEQUENCE:0
LAST-MODIFIED:20101025T203631Z
SUMMARY:Oct. 28-31: Elite Show Jumping
LOCATION:FENCE Equestrian Grounds
PRIORITY:3
TRANSP:0
END:VEVENT
END:VCALENDAR
