BEGIN:VCALENDAR
PRODID:-//AT Content Types//AT Event//EN
VERSION:2.0
METHOD:PUBLISH
BEGIN:VEVENT
DTSTAMP:20260423T191545Z
CREATED:20080623T181111Z
UID:ATEvent-0f28f17c-8486-4e51-b6da-869ca3e910ea
LAST-MODIFIED:20080623T181111Z
SUMMARY:Oct. 26 - The Armchair Traveler
DTSTART:20081026T200000Z
DTEND:20081026T213000Z
DESCRIPTION:Program to be announced
LOCATION:FENCE Center Great Room
CATEGORIES:Family
CONTACT:FENCE\, 828-859-9021\, info@fence.org
CLASS:PUBLIC
END:VEVENT
END:VCALENDAR
