BEGIN:VCALENDAR
PRODID:-//AT Content Types//AT Event//EN
VERSION:1.0
BEGIN:VEVENT
DTSTART:20091025T200000Z
DTEND:20091025T210000Z
DCREATED:20091013T145331Z
UID:ATEvent-627796b4-445f-4dc0-87dc-c797883a72c9
SEQUENCE:0
LAST-MODIFIED:20091013T145331Z
SUMMARY:Oct. 25: The Armchair Traveler
DESCRIPTION:Naturalist and herbal specialist June Ellen Bradley and an
  illustrated presentation on global threats to valuable medicinal plan
 ts.
LOCATION:FENCE Great Room
PRIORITY:3
TRANSP:0
END:VEVENT
END:VCALENDAR
