BEGIN:VCALENDAR
PRODID:-//AT Content Types//AT Event//EN
VERSION:1.0
BEGIN:VEVENT
DTSTART:20101024T200000Z
DTEND:20101024T210000Z
DCREATED:20101019T190222Z
UID:ATEvent-6834a4c7-b4f4-4899-a573-cb029041ad86
SEQUENCE:0
LAST-MODIFIED:20101019T191225Z
SUMMARY:Oct. 24: Armchair Traveler
DESCRIPTION:Free Family Event
LOCATION:Great Room
PRIORITY:3
TRANSP:0
END:VEVENT
END:VCALENDAR
