BEGIN:VCALENDAR
PRODID:-//AT Content Types//AT Event//EN
VERSION:1.0
BEGIN:VEVENT
DTSTART:20091023T220000Z
DTEND:20091024T030000Z
DCREATED:20090820T200838Z
UID:ATEvent-4147c355-f83a-4012-be6b-807359cef28f
SEQUENCE:0
LAST-MODIFIED:20090925T001116Z
SUMMARY:Oct. 23: FENCE 25th Anniversary Gala
LOCATION:Equestrian Center\, Covered Arena
PRIORITY:3
TRANSP:0
END:VEVENT
END:VCALENDAR
