BEGIN:VCALENDAR
PRODID:-//AT Content Types//AT Event//EN
VERSION:1.0
BEGIN:VEVENT
DTSTART:20081019T200000Z
DTEND:20081019T210000Z
DCREATED:20081013T022348Z
UID:ATEvent-8da42a00-c911-462b-b4ef-0c714b9c6574
SEQUENCE:0
LAST-MODIFIED:20081013T022518Z
SUMMARY:Oct. 19: Family Concert
DESCRIPTION:A free program presenting young fiddler and storyteller To
 dd Elliot. Offered free with the support of the Kirby Endowment Fund a
 t the Polk County Community Foundation.
LOCATION:Great Room
PRIORITY:3
TRANSP:0
END:VEVENT
END:VCALENDAR
