BEGIN:VCALENDAR
PRODID:-//AT Content Types//AT Event//EN
VERSION:2.0
METHOD:PUBLISH
BEGIN:VEVENT
DTSTAMP:20260423T131948Z
CREATED:20111002T202440Z
UID:ATEvent-9e7f67c7-2a1d-4e75-af28-1fade444e3dc
LAST-MODIFIED:20111002T202440Z
SUMMARY:Oct. 16: Family Concert
DTSTART:20111016T200000Z
DTEND:20111016T213000Z
DESCRIPTION:Kathleen and Joseph Erwin perform works for piano and viol
 in by Bach\, Chopin\, Grieg and Kreisler.
LOCATION:Great Room
CATEGORIES:Family
CONTACT:828-859-9021\, Info@fence.org
CLASS:PUBLIC
END:VEVENT
END:VCALENDAR
