BEGIN:VCALENDAR
PRODID:-//AT Content Types//AT Event//EN
VERSION:2.0
METHOD:PUBLISH
BEGIN:VEVENT
DTSTAMP:20260423T105825Z
CREATED:20100516T015003Z
UID:ATEvent-23de54a7-6b6e-4489-b8b9-6715acdf62d8
LAST-MODIFIED:20100516T015003Z
SUMMARY:Oct. 15: Foothills Astronomical Society
DTSTART:20101015T233000Z
DTEND:20101016T010000Z
DESCRIPTION:Regular monthly club meeting. All invited. Enter through r
 ear of FENCE Center.
LOCATION:FENCE Center
CATEGORIES:Nature/Astronomy
CONTACT:Jim Cooper\, 828-859-8342
CLASS:PUBLIC
END:VEVENT
END:VCALENDAR
