BEGIN:VCALENDAR
PRODID:-//AT Content Types//AT Event//EN
VERSION:1.0
BEGIN:VEVENT
DTSTART:20190525T040000Z
DTEND:20190527T035500Z
DCREATED:20190205T162921Z
UID:ATEvent-8945f618383d44fbaa57597e5ef25a0c
SEQUENCE:0
LAST-MODIFIED:20190205T162921Z
SUMMARY:Obstacle Trail Clinic
LOCATION:FENCE Equestrian Side
PRIORITY:3
TRANSP:0
END:VEVENT
END:VCALENDAR
