BEGIN:VCALENDAR
PRODID:-//AT Content Types//AT Event//EN
VERSION:2.0
METHOD:PUBLISH
BEGIN:VEVENT
DTSTAMP:20260423T120043Z
CREATED:20100504T155812Z
UID:ATEvent-341470e2-3e51-4d1b-b31c-88f60d9e91f7
LAST-MODIFIED:20101119T151209Z
SUMMARY:Nov. 27: FENCE Holiday Barn Tour
DTSTART:20101127T150000Z
DTEND:20101127T200000Z
LOCATION:Various
CATEGORIES:Family
CONTACT:828-859-9021
CLASS:PUBLIC
END:VEVENT
END:VCALENDAR
