BEGIN:VCALENDAR
PRODID:-//AT Content Types//AT Event//EN
VERSION:2.0
METHOD:PUBLISH
BEGIN:VEVENT
DTSTAMP:20260423T132029Z
CREATED:20101112T193114Z
UID:ATEvent-6f818292-2b94-443f-aac5-332febb54b12
LAST-MODIFIED:20101112T193129Z
SUMMARY:Nov. 21: FENCE Family Concert
DTSTART:20101121T210000Z
DTEND:20101121T230000Z
DESCRIPTION:The Sparkle City Brass entertains with a program of classi
 cal and traditional works for tuba\, trumpet\, French horn and trombon
 e. Free program.
CATEGORIES:Family
CONTACT:828-859-9021\, info@fence.org
CLASS:PUBLIC
END:VEVENT
END:VCALENDAR
