BEGIN:VCALENDAR
PRODID:-//AT Content Types//AT Event//EN
VERSION:2.0
METHOD:PUBLISH
BEGIN:VEVENT
DTSTAMP:20260423T142556Z
CREATED:20111031T210945Z
UID:ATEvent-6b134dd6-c850-435c-b03d-546cc98908b5
LAST-MODIFIED:20111031T210945Z
SUMMARY:Nov. 20: Family Concert
DTSTART:20111120T210000Z
DTEND:20111120T223000Z
DESCRIPTION:The Sparkle City Brass presents concert selections for tru
 mpet\, French Horn\, tuba and trombone. Free program.
LOCATION:Great Room
CATEGORIES:Family
CONTACT:828-859-9021\, info@fence.org
CLASS:PUBLIC
END:VEVENT
END:VCALENDAR
