BEGIN:VCALENDAR
PRODID:-//AT Content Types//AT Event//EN
VERSION:2.0
METHOD:PUBLISH
BEGIN:VEVENT
DTSTAMP:20260423T120058Z
CREATED:20080623T181249Z
UID:ATEvent-c4860d88-e236-488f-900c-8334fd431cb9
LAST-MODIFIED:20081109T213335Z
SUMMARY:Nov. 16 - Family Concert
DTSTART:20081116T210000Z
DTEND:20081116T223000Z
DESCRIPTION:The Sparkle City Brass entertains with an eclectic reperto
 ire of selections for trumpet\, french horn\, trombone and tuba. Free 
 program\, made possible with the support of the Kirby Endowment Fund a
 t the Polk County Community Foundation.
LOCATION:FENCE Center Great Room
CATEGORIES:Family
CONTACT:FENCE\, 828-859-9021\, info@fence.org
CLASS:PUBLIC
END:VEVENT
END:VCALENDAR
