BEGIN:VCALENDAR
PRODID:-//AT Content Types//AT Event//EN
VERSION:2.0
METHOD:PUBLISH
BEGIN:VEVENT
DTSTAMP:20260423T120103Z
CREATED:20091029T150411Z
UID:ATEvent-d8a6bf50-59e2-462d-959e-ee0eaef1e898
LAST-MODIFIED:20091029T150411Z
SUMMARY:Nov. 15: Family Concert\, 4pm
DTSTART:20091115T210000Z
DTEND:20091115T223000Z
DESCRIPTION:The Sparkle City Brass returns to FENCE for this last conc
 ert of the season.
LOCATION:Great Room
CATEGORIES:Family
CONTACT:828-859-9021\, info@fence.org
CLASS:PUBLIC
END:VEVENT
END:VCALENDAR
