BEGIN:VCALENDAR
PRODID:-//AT Content Types//AT Event//EN
VERSION:1.0
BEGIN:VEVENT
DTSTART:20111114T150000Z
DTEND:20111114T163000Z
DCREATED:20101120T220409Z
UID:ATEvent-df235207-ff09-4e56-9093-03c3293350ec
SEQUENCE:0
LAST-MODIFIED:20101120T220409Z
SUMMARY:Nov. 14: Gardening Seminar\, 10am
DESCRIPTION:"Fall Foliage and Color"\, with Ann Carter of A Growing Co
 ncern. Free program.
LOCATION:g
PRIORITY:3
TRANSP:0
END:VEVENT
END:VCALENDAR
