BEGIN:VCALENDAR
PRODID:-//AT Content Types//AT Event//EN
VERSION:2.0
METHOD:PUBLISH
BEGIN:VEVENT
DTSTAMP:20260423T062933Z
CREATED:20090826T180704Z
UID:ATEvent-99480866-6bda-4ab3-ae60-553b22fcbb0f
LAST-MODIFIED:20090826T180705Z
SUMMARY:Nov. 14: Astronomy Program at sunset
DTSTART:20091115T000000Z
DTEND:20091115T040000Z
DESCRIPTION:"Mars Rising". Offered by the Foothills Astronomical Socie
 ty.
LOCATION:fENCE Grounds
CATEGORIES:Nature Program
CONTACT:jim Cooper\, 828-859-8342
URL:http://www.intheheavens.org/fas
CLASS:PUBLIC
END:VEVENT
END:VCALENDAR
