BEGIN:VCALENDAR
PRODID:-//AT Content Types//AT Event//EN
VERSION:1.0
BEGIN:VEVENT
DTSTART:20091101T180000Z
DTEND:20091101T220000Z
DCREATED:20091021T170547Z
UID:ATEvent-a4edf295-2fce-47c4-8e9c-6ae978eea914
SEQUENCE:0
LAST-MODIFIED:20091021T170547Z
SUMMARY:Nov. 1: Kids@FENCE   CANCELLED
DESCRIPTION:Sorry\, but this year's Kids@FENCE Festival has been cance
 lled.
PRIORITY:3
TRANSP:0
END:VEVENT
END:VCALENDAR
