BEGIN:VCALENDAR
PRODID:-//AT Content Types//AT Event//EN
VERSION:2.0
METHOD:PUBLISH
BEGIN:VEVENT
DTSTAMP:20260423T154915Z
CREATED:20100516T015104Z
UID:ATEvent-fe781f16-1696-4e2a-903c-36d14a793f52
LAST-MODIFIED:20100516T015104Z
SUMMARY:Nov 19: Foothills Astronomical Society
DTSTART:20101120T003000Z
DTEND:20101120T020000Z
DESCRIPTION:Regular monthly club meeting. All invited. Enter through r
 ear of FENCE Center.
LOCATION:FENCE Center
CATEGORIES:Nature/Astronomy
CONTACT:Jim Cooper\, 828-859-8342
CLASS:PUBLIC
END:VEVENT
END:VCALENDAR
