BEGIN:VCALENDAR
PRODID:-//AT Content Types//AT Event//EN
VERSION:2.0
METHOD:PUBLISH
BEGIN:VEVENT
DTSTAMP:20260423T120103Z
CREATED:20230117T201417Z
UID:ATEvent-a96ff6458e1140f9947a06e92a448e19
LAST-MODIFIED:20230117T201434Z
SUMMARY:North America Suffolk Horse Association
DTSTART:20230921T120000Z
DTEND:20230924T210000Z
LOCATION:FENCE Equestrian Side
CATEGORIES:Horse Show
CLASS:PUBLIC
END:VEVENT
END:VCALENDAR
