BEGIN:VCALENDAR
PRODID:-//AT Content Types//AT Event//EN
VERSION:2.0
METHOD:PUBLISH
BEGIN:VEVENT
DTSTAMP:20260422T224019Z
CREATED:20241030T185638Z
UID:ATEvent-b5b5940162624932902536e11ea28714
LAST-MODIFIED:20241030T185638Z
SUMMARY:NO YOGA
DTSTART:20241227T143000Z
DTEND:20241227T153000Z
CATEGORIES:Family
CLASS:PUBLIC
END:VEVENT
END:VCALENDAR
