BEGIN:VCALENDAR
PRODID:-//AT Content Types//AT Event//EN
VERSION:1.0
BEGIN:VEVENT
DTSTART:20210914T120000Z
DTEND:20210914T140000Z
DCREATED:20210802T135730Z
UID:ATEvent-89e97019422b4df386e17c078c2bb822
SEQUENCE:0
LAST-MODIFIED:20210907T183119Z
SUMMARY:Cancelled-Newcomers Orientation
LOCATION:FENCE Center
PRIORITY:3
TRANSP:0
END:VEVENT
END:VCALENDAR
