BEGIN:VCALENDAR
PRODID:-//AT Content Types//AT Event//EN
VERSION:2.0
METHOD:PUBLISH
BEGIN:VEVENT
DTSTAMP:20260423T115050Z
CREATED:20190401T145244Z
UID:ATEvent-60bcd5eccae1485d80430d5ae6293e39
LAST-MODIFIED:20190401T145245Z
SUMMARY:Needle felting class-mouse
DTSTART:20190504T140000Z
DTEND:20190504T180000Z
DESCRIPTION:Join us at FENCE for a fun\, needle felting class led by I
 rene Heckel! Each participant will create a cute mouse to take home wi
 th them. $50 per person (All supplies included in class fee) No experi
 ence necessary.
LOCATION:FENCE Center
CATEGORIES:Family
CONTACT:828-859-9021\, info@fence.org
CLASS:PUBLIC
END:VEVENT
END:VCALENDAR
