BEGIN:VCALENDAR
PRODID:-//AT Content Types//AT Event//EN
VERSION:2.0
METHOD:PUBLISH
BEGIN:VEVENT
DTSTAMP:20260423T223832Z
CREATED:20181109T214218Z
UID:ATEvent-43f87a8e55b24b5cb264b803638aceee
LAST-MODIFIED:20181112T192831Z
SUMMARY:Needle Felted Snowman Class
DTSTART:20181201T150000Z
DTEND:20181201T190000Z
DESCRIPTION:Irene heckel is returning to FENCE to teach this wonderful
  holiday class. No experience is necessary. This class is $67 per pers
 on. All supplies are included in the class fee. Space is limited- call
  FENCE at 828-859-9021 to register. Come and create a snowman for the 
 holidays.  Learn to use your felting needle to create something great 
 for the holidays – either for yourself or gift giving.  Either way\,
  it is a fun class to learn in.
LOCATION:FENCE Center
CATEGORIES:Family
CONTACT:828-859-9021\, info@fence.org
CLASS:PUBLIC
END:VEVENT
END:VCALENDAR
