BEGIN:VCALENDAR
PRODID:-//AT Content Types//AT Event//EN
VERSION:1.0
BEGIN:VEVENT
DTSTART:20250503T140000Z
DTEND:20250503T180000Z
DCREATED:20250415T014522Z
UID:ATEvent-911b880b8d2843c2964bb6296660a44a
SEQUENCE:0
LAST-MODIFIED:20250415T015456Z
SUMMARY:Needle Felt a Fiber Painting of a Whimsical Goldfinch
DESCRIPTION:On Saturday\, May 3rd from 10am-2pm the talented Irene Hec
 kel returns to FENCE to teach one of her popular needle felting classe
 s. Irene will teach students the skills to create a unique piece of ar
 t using fibers.
LOCATION:FENCE Center
PRIORITY:3
TRANSP:0
END:VEVENT
END:VCALENDAR
