BEGIN:VCALENDAR
PRODID:-//AT Content Types//AT Event//EN
VERSION:2.0
METHOD:PUBLISH
BEGIN:VEVENT
DTSTAMP:20260423T114647Z
CREATED:20150114T190724Z
UID:ATEvent-9a696d5e-5872-42a2-b33a-4c46f25bda49
LAST-MODIFIED:20150114T190725Z
SUMMARY:NCDCTA
DTSTART:20150620T120000Z
DTEND:20150621T200000Z
LOCATION:FENCE Equestrian Side
CATEGORIES:Horse Show
CLASS:PUBLIC
END:VEVENT
END:VCALENDAR
