BEGIN:VCALENDAR
PRODID:-//AT Content Types//AT Event//EN
VERSION:2.0
METHOD:PUBLISH
BEGIN:VEVENT
DTSTAMP:20260423T142452Z
CREATED:20130315T204451Z
UID:ATEvent-3cd75e1f-cb4c-490a-980c-af7efc90679c
LAST-MODIFIED:20130530T200524Z
SUMMARY:NCDCTA Dressage Show
DTSTART:20130622T120000Z
DTEND:20130623T210000Z
LOCATION:FENCE EQ side
CATEGORIES:Horse Show
CONTACT:Sandy Donovan\, 910-218-0613\, SandyDonovan@gmail.com
CLASS:PUBLIC
END:VEVENT
END:VCALENDAR
