BEGIN:VCALENDAR
PRODID:-//AT Content Types//AT Event//EN
VERSION:1.0
BEGIN:VEVENT
DTSTART:20140621T120000Z
DTEND:20140622T210000Z
DCREATED:20140103T193904Z
UID:ATEvent-f627b210-25ae-444e-965a-1ece6eea47c1
SEQUENCE:0
LAST-MODIFIED:20140103T193904Z
SUMMARY:NCDCTA Dressage Show
LOCATION:FENCE EQ side
PRIORITY:3
TRANSP:0
END:VEVENT
END:VCALENDAR
