BEGIN:VCALENDAR
PRODID:-//AT Content Types//AT Event//EN
VERSION:1.0
BEGIN:VEVENT
DTSTART:20250201T050000Z
DTEND:20250203T045500Z
DCREATED:20241113T134241Z
UID:ATEvent-89cda9f1bf344226a9c01b9501cd9a66
SEQUENCE:0
LAST-MODIFIED:20241113T134241Z
SUMMARY:NC / SC High School Rodeo
DESCRIPTION:More details to come!
PRIORITY:3
TRANSP:0
END:VEVENT
END:VCALENDAR
