BEGIN:VCALENDAR
PRODID:-//AT Content Types//AT Event//EN
VERSION:2.0
METHOD:PUBLISH
BEGIN:VEVENT
DTSTAMP:20260423T115208Z
CREATED:20241113T134308Z
UID:ATEvent-a28d428d13ec4f9fb54f4fb7167d2f9c
LAST-MODIFIED:20241219T150540Z
SUMMARY:NC / SC High School Rodeo
DTSTART:20250201T220000Z
DTEND:20250203T040000Z
DESCRIPTION:More details to come
LOCATION:FENCE Equestrian
CATEGORIES:Horse Show
CONTACT:Jordan Nabors
CLASS:PUBLIC
END:VEVENT
END:VCALENDAR
