BEGIN:VCALENDAR
PRODID:-//AT Content Types//AT Event//EN
VERSION:1.0
BEGIN:VEVENT
DTSTART:20240330T210000Z
DTEND:20240401T025500Z
DCREATED:20240104T205635Z
UID:ATEvent-f6918423af9a4648bd07749e35c42530
SEQUENCE:0
LAST-MODIFIED:20240104T205635Z
SUMMARY:NC Rodeo
LOCATION:FENCE Equestrian Side
PRIORITY:3
TRANSP:0
END:VEVENT
END:VCALENDAR
