BEGIN:VCALENDAR
PRODID:-//AT Content Types//AT Event//EN
VERSION:2.0
METHOD:PUBLISH
BEGIN:VEVENT
DTSTAMP:20260423T115207Z
CREATED:20220128T183527Z
UID:ATEvent-903f813fc98f4e43bfa404508011715a
LAST-MODIFIED:20220128T183527Z
SUMMARY:NBHA Barrel racing
DTSTART:20221210T140000Z
DTEND:20221211T010000Z
LOCATION:FENCE Equestrian side
CATEGORIES:Horse Show
CLASS:PUBLIC
END:VEVENT
END:VCALENDAR
