BEGIN:VCALENDAR
PRODID:-//AT Content Types//AT Event//EN
VERSION:1.0
BEGIN:VEVENT
DTSTART:20190720T150000Z
DTEND:20190720T163000Z
DCREATED:20190624T182113Z
UID:ATEvent-56b55610919a4a458decbfcfff5cbdcd
SEQUENCE:0
LAST-MODIFIED:20190624T182113Z
SUMMARY:Nature Presentation with Jim Welch
DESCRIPTION:Jim Welch\, former host of the public television series Na
 tureScene will share stories and experiences of his 20 year adventure 
 in the natural areas of all 50 states and around the world. From close
  up encounters with bears\, bison\, elk\, moose\, and snakes to the qu
 iet observations of birds and butterflies\, the program should bring a
 ll a more intense appreciation of Nature. From the Blue Ridge of the C
 arolinas to the oldest and deepest freshwater lake in the world\, Lake
  Baikal in Siberia\, the adventures should impart a greater appreciati
 on of our natural world and all that is in it.
LOCATION:FENCE Center
PRIORITY:3
TRANSP:0
END:VEVENT
END:VCALENDAR
